BEGIN:VCALENDAR
VERSION:2.0
PRODID:-//Universitas Bina Insani
CALSCALE:GREGORIAN
METHOD:PUBLISH
X-WR-CALNAME:Universitas Bina Insani
X-ORIGINAL-URL:https://binainsani.ac.id/event/program-studi-akuntansi-feb-universitas-bina-insani-gelar-ujian-certified-accurate-professional/
X-WR-CALDESC:Program Studi Akuntansi FEB Universitas Bina Insani Gelar Ujian Certified Accurate Professional
BEGIN:VEVENT
DTSTART:20240810T000000
DTEND:20240810T000000
SUMMARY:Program Studi Akuntansi FEB Universitas Bina Insani Gelar Ujian Certified Accurate Professional
DESCRIPTION:
LOCATION:Bina Insani University
END:VEVENT
END:VCALENDAR
