BEGIN:VCALENDAR
VERSION:2.0
PRODID:-//Universitas Bina Insani
CALSCALE:GREGORIAN
METHOD:PUBLISH
X-WR-CALNAME:Universitas Bina Insani
X-ORIGINAL-URL:https://binainsani.ac.id/event/hari-sumpah-pemuda-ke-96-universitas-bina-insani-turut-hadir-dalam-upacara-tingkat-kota-bekasi/
X-WR-CALDESC:Hari Sumpah Pemuda ke-96, Universitas Bina Insani Turut Hadir dalam Upacara Tingkat Kota Bekasi
BEGIN:VEVENT
DTSTART:20241028T070000
DTEND:20241028T083000
SUMMARY:Hari Sumpah Pemuda ke-96, Universitas Bina Insani Turut Hadir dalam Upacara Tingkat Kota Bekasi
DESCRIPTION:
LOCATION:Alun - alun Kota Bekasi
END:VEVENT
END:VCALENDAR
