BEGIN:VCALENDAR
VERSION:2.0
PRODID:-//Universitas Bina Insani
CALSCALE:GREGORIAN
METHOD:PUBLISH
X-WR-CALNAME:Universitas Bina Insani
X-ORIGINAL-URL:https://binainsani.ac.id/event/universitas-bina-insani-jalin-kerja-sama-internasional-dengan-national-chi-nan-university-taiwan/
X-WR-CALDESC:Universitas Bina Insani Jalin Kerja Sama Internasional dengan National Chi Nan University, Taiwan
BEGIN:VEVENT
DTSTART:20250913T000000
DTEND:20250913T000000
SUMMARY:Universitas Bina Insani Jalin Kerja Sama Internasional dengan National Chi Nan University, Taiwan
DESCRIPTION:
LOCATION:Jl. Siliwangi No. 6 Sepanjang Jaya, Kec. Rawa Lumbu, Kota Bekasi  17114
END:VEVENT
END:VCALENDAR
