BEGIN:VCALENDAR
VERSION:2.0
PRODID:-//Universitas Bina Insani
CALSCALE:GREGORIAN
METHOD:PUBLISH
X-WR-CALNAME:Universitas Bina Insani
X-ORIGINAL-URL:https://binainsani.ac.id/event/biu-smart-1-pelatihan-software-accurate-accounting-bersama-smkn-3-kota-bekasi/
X-WR-CALDESC:BIU SMART #1 &#8211; Pelatihan Software Accurate Accounting Bersama SMKN 3 Kota Bekasi
BEGIN:VEVENT
DTSTART:20260114T000000
DTEND:20260114T000000
SUMMARY:BIU SMART #1 &#8211; Pelatihan Software Accurate Accounting Bersama SMKN 3 Kota Bekasi
DESCRIPTION:
LOCATION:Jl. Siliwangi No. 6 Sepanjang Jaya, Kec. Rawa Lumbu, Kota Bekasi  17114
END:VEVENT
END:VCALENDAR
