BEGIN:VCALENDAR
VERSION:2.0
PRODID:-//Universitas Bina Insani
CALSCALE:GREGORIAN
METHOD:PUBLISH
X-WR-CALNAME:Universitas Bina Insani
X-ORIGINAL-URL:https://binainsani.ac.id/event/bina-insani-university-ikut-serta-di-career-day-sman-6-kota-bekasi/
X-WR-CALDESC:Bina Insani University Ikut Serta di Career Day SMAN 6 Kota Bekasi
BEGIN:VEVENT
DTSTART:20260115T000000
DTEND:20260115T000000
SUMMARY:Bina Insani University Ikut Serta di Career Day SMAN 6 Kota Bekasi
DESCRIPTION:
LOCATION:Jl. Siliwangi No. 6 Sepanjang Jaya, Kec. Rawa Lumbu, Kota Bekasi  17114
END:VEVENT
END:VCALENDAR
