BEGIN:VCALENDAR
VERSION:2.0
PRODID:-//Universitas Bina Insani
CALSCALE:GREGORIAN
METHOD:PUBLISH
X-WR-CALNAME:Universitas Bina Insani
X-ORIGINAL-URL:https://binainsani.ac.id/event/biu-dorong-literasi-keuangan-dan-fintech-untuk-mahasiswa-dengan-gencarkanaksi/
X-WR-CALDESC:BiU Dorong Literasi Keuangan dan Fintech untuk Mahasiswa dengan #GencarkanAKSI
BEGIN:VEVENT
DTSTART:20260120T000000
DTEND:20260120T000000
SUMMARY:BiU Dorong Literasi Keuangan dan Fintech untuk Mahasiswa dengan #GencarkanAKSI
DESCRIPTION:
LOCATION:Jl. Siliwangi No. 6 Sepanjang Jaya, Kec. Rawa Lumbu, Kota Bekasi  17114
END:VEVENT
END:VCALENDAR
