BEGIN:VCALENDAR
VERSION:2.0
PRODID:-//Universitas Bina Insani
CALSCALE:GREGORIAN
METHOD:PUBLISH
X-WR-CALNAME:Universitas Bina Insani
X-ORIGINAL-URL:https://binainsani.ac.id/event/young-entrepeneur-in-the-digital-era/
X-WR-CALDESC:Young Entrepeneur in The Digital Era
BEGIN:VEVENT
DTSTART:20171027T000000
DTEND:20171027T000000
SUMMARY:Young Entrepeneur in The Digital Era
DESCRIPTION:
LOCATION:Ruang Seminar Lt. 2 Kampus Bina Insani
END:VEVENT
END:VCALENDAR
